BEGIN:VCALENDAR
VERSION:2.0
PRODID:-//Lake County Chamber of Commerce - ECPv6.15.20//NONSGML v1.0//EN
CALSCALE:GREGORIAN
METHOD:PUBLISH
X-WR-CALNAME:Lake County Chamber of Commerce
X-ORIGINAL-URL:https://lakecountymichigan.com
X-WR-CALDESC:Events for Lake County Chamber of Commerce
REFRESH-INTERVAL;VALUE=DURATION:PT1H
X-Robots-Tag:noindex
X-PUBLISHED-TTL:PT1H
BEGIN:VTIMEZONE
TZID:America/Detroit
BEGIN:DAYLIGHT
TZOFFSETFROM:-0500
TZOFFSETTO:-0400
TZNAME:EDT
DTSTART:20240310T070000
END:DAYLIGHT
BEGIN:STANDARD
TZOFFSETFROM:-0400
TZOFFSETTO:-0500
TZNAME:EST
DTSTART:20241103T060000
END:STANDARD
BEGIN:DAYLIGHT
TZOFFSETFROM:-0500
TZOFFSETTO:-0400
TZNAME:EDT
DTSTART:20250309T070000
END:DAYLIGHT
BEGIN:STANDARD
TZOFFSETFROM:-0400
TZOFFSETTO:-0500
TZNAME:EST
DTSTART:20251102T060000
END:STANDARD
BEGIN:DAYLIGHT
TZOFFSETFROM:-0500
TZOFFSETTO:-0400
TZNAME:EDT
DTSTART:20260308T070000
END:DAYLIGHT
BEGIN:STANDARD
TZOFFSETFROM:-0400
TZOFFSETTO:-0500
TZNAME:EST
DTSTART:20261101T060000
END:STANDARD
END:VTIMEZONE
BEGIN:VEVENT
DTSTART;TZID=America/Detroit:20251001T180000
DTEND;TZID=America/Detroit:20251001T190000
DTSTAMP:20260425T072030
CREATED:20250423T132135Z
LAST-MODIFIED:20250423T132135Z
UID:257492-1759341600-1759345200@lakecountymichigan.com
SUMMARY:Lake County Historical Museum North Country Winter Sports
DESCRIPTION:Program & Refreshments \nFree Admission \nPresented by Chris Crosthwaite
URL:https://lakecountymichigan.com/event/lake-county-historical-museum-north-country-winter-sports
LOCATION:Lake County Historical Museum\, 915 N Michigan Ave\, Baldwin\, MI\, 49304\, United States
CATEGORIES:Baldwin Events,Lake County Museum Events
ATTACH;FMTTYPE=image/jpeg:https://lakecountymichigan.com/wp-content/uploads/2025/04/IMG_1911.jpeg
ORGANIZER;CN="Lake County Historical Society":MAILTO:lakecountyhistory@hotmail.com
END:VEVENT
BEGIN:VEVENT
DTSTART;TZID=America/Detroit:20251004T130000
DTEND;TZID=America/Detroit:20251004T150000
DTSTAMP:20260425T072030
CREATED:20250415T135735Z
LAST-MODIFIED:20250415T142248Z
UID:257449-1759582800-1759590000@lakecountymichigan.com
SUMMARY:Medicare Info Session
DESCRIPTION:Larry Reed from Apex Insurance will be at the TEEM Center to discuss Medicare.
URL:https://lakecountymichigan.com/event/medicare-info-session
LOCATION:The TEEM Center\, 1850 E US 10\, Idlewild\, MI\, 49642\, United States
CATEGORIES:Idlewild Events,TEEM Center Events
ATTACH;FMTTYPE=image/png:https://lakecountymichigan.com/wp-content/uploads/2025/04/what-is-medicare-part-a.png
END:VEVENT
BEGIN:VEVENT
DTSTART;TZID=America/Detroit:20251009T183000
DTEND;TZID=America/Detroit:20251009T203000
DTSTAMP:20260425T072030
CREATED:20250415T135832Z
LAST-MODIFIED:20250415T142239Z
UID:257451-1760034600-1760041800@lakecountymichigan.com
SUMMARY:Movie Night
DESCRIPTION:Join the TEEM Center for movie night with a $1.00 donation. \nFree popcorn provided.
URL:https://lakecountymichigan.com/event/movie-night-6
LOCATION:The TEEM Center\, 1850 E US 10\, Idlewild\, MI\, 49642\, United States
CATEGORIES:Idlewild Events,TEEM Center Events
ATTACH;FMTTYPE=image/jpeg:https://lakecountymichigan.com/wp-content/uploads/2025/04/MovieNight.jpg
END:VEVENT
BEGIN:VEVENT
DTSTART;TZID=America/Detroit:20251011T170000
DTEND;TZID=America/Detroit:20251011T170000
DTSTAMP:20260425T072030
CREATED:20250415T140053Z
LAST-MODIFIED:20250415T142230Z
UID:257452-1760202000-1760202000@lakecountymichigan.com
SUMMARY:Musical Concert with Gezelle Grier-Myers
DESCRIPTION:Join the TEEM Center for a musical concert with Gezelle Grier – Myers \n$5.00 entry
URL:https://lakecountymichigan.com/event/musical-concert-with-gezelle-grier-myers
LOCATION:The TEEM Center\, 1850 E US 10\, Idlewild\, MI\, 49642\, United States
CATEGORIES:Idlewild Events,TEEM Center Events
ATTACH;FMTTYPE=image/jpeg:https://lakecountymichigan.com/wp-content/uploads/2025/04/126856133-retro-microphone-and-music-notes-flat-vector-illustration-song-contest-vocal-show-singer-artist.jpg
END:VEVENT
BEGIN:VEVENT
DTSTART;TZID=America/Detroit:20251017T190000
DTEND;TZID=America/Detroit:20251017T190000
DTSTAMP:20260425T072030
CREATED:20250415T140234Z
LAST-MODIFIED:20250415T142210Z
UID:257454-1760727600-1760727600@lakecountymichigan.com
SUMMARY:Community Revival
DESCRIPTION:Join the TEEM Center for Community Revival Night.
URL:https://lakecountymichigan.com/event/community-revival
LOCATION:The TEEM Center\, 1850 E US 10\, Idlewild\, MI\, 49642\, United States
CATEGORIES:Idlewild Events,TEEM Center Events
ATTACH;FMTTYPE=image/png:https://lakecountymichigan.com/wp-content/uploads/2025/04/4d8dd-students-in-community.001.png
END:VEVENT
BEGIN:VEVENT
DTSTART;TZID=America/Detroit:20251025T100000
DTEND;TZID=America/Detroit:20251025T160000
DTSTAMP:20260425T072030
CREATED:20250918T160634Z
LAST-MODIFIED:20250918T160720Z
UID:257751-1761386400-1761408000@lakecountymichigan.com
SUMMARY:Rifle Sight In at Lake County Sportsman's Club
DESCRIPTION:OPEN TO THE PUBLIC
URL:https://lakecountymichigan.com/event/rifle-site-in-at-lake-county-sportsmans-club
LOCATION:Lake County Sportsman’s Club\, 7249 McKinley Road\, Baldwin\, MI\, 49304\, United States
CATEGORIES:Baldwin Events
END:VEVENT
BEGIN:VEVENT
DTSTART;TZID=America/Detroit:20251031T170000
DTEND;TZID=America/Detroit:20251031T200000
DTSTAMP:20260425T072030
CREATED:20251014T220401Z
LAST-MODIFIED:20251014T220401Z
UID:257792-1761930000-1761940800@lakecountymichigan.com
SUMMARY:TRICK OR TREAT IN VILLAGE OF BALDWIN
DESCRIPTION:
URL:https://lakecountymichigan.com/event/trick-or-treat-in-village-of-baldwin
LOCATION:MI
END:VEVENT
END:VCALENDAR